BEGIN:VCALENDAR
VERSION:2.0
CALSCALE:GREGORIAN
METHOD:PUBLISH
PRODID://KYAS//212169
BEGIN:VEVENT
DTSTAMP:20260421T083654
VTIMEZONE:America/New_York
DTSTART:20260424T233000Z
DTEND:20260425T003000Z
UID:212169
SUMMARY:The Vontz Center: the Cincinnati Museum Center's new collections facility 
LOCATION:
DESCRIPTION:The Vontz Center: the Cincinnati Museum Center's new collections facility \n\n04/24/26 07:30 PM EST\n - 04/24/26 08:30 PM EST\Description:\nThe Kentucky Paleontological Society (KPS). presents Dr. Brenda Hunda, Curator of Invertebrate Paleontology, Cincinnati Museum Center.\n\n Lexington, Kentucky, Mines and Minerals Resources Building, Room 101, Rose Street, UK Campus. PLEASE PRACTICE SOCIAL DISTANCING.\n \nContact: DANIEL J. PHELPS (859) 402-4337\n 
X-ALT-DESC;FMTTYPE=text/html:The Vontz Center: the Cincinnati Museum Center's new collections facility <br /><br />04/24/26 07:30 PM EST - 04/24/26 08:30 PM EST<br />Description:<br />The Kentucky Paleontological Society (KPS). presents Dr. Brenda Hunda, Curator of Invertebrate Paleontology, Cincinnati Museum Center.<br />
<br />
&nbsp;Lexington, Kentucky, Mines and Minerals Resources Building,&nbsp;Room&nbsp;101,&nbsp;Rose Street, UK Campus. PLEASE PRACTICE SOCIAL DISTANCING.<br />
&nbsp;<br />
Contact: DANIEL J. PHELPS&nbsp;(859)&nbsp;402-4337<br />
&nbsp;
PRIORITY:3
TRANSP:TRANSPARENT
BEGIN:VALARM
TRIGGER:-PT5M
ACTION:DISPLAY
DESCRIPTION:Reminder
END:VALARM
END:VEVENT
END:VCALENDAR
